Workbook

Sheet Assumptions & Drivers
A1: *as of 4/22/2025
C2: Annual | D2: Quarterly
B3: Discount Rate (WACC) | C3: 0.103 | D3: =(1+C3)^(1/4)-1 -> 0.024811235
B4: Long-term Growth Rate | C4: 0.03 | D4: =(1+C4)^(1/4)-1 -> 0.0074170718
B6: 2025 Guidance | F6: Sell-Side Price Target
B7: Sales | C7: $4.740B - $4.900B | F7: ='Sell Side Ests'!H4 -> 103.417
B8: Comp store sales | C8: 0 - 3%
B9: Gross margin | C9: 43.4 - 43.7%
B10: Selling and store operating exp | C10: 31.0 - 31.5%
B11: Tax rate | C11: 21 - 22%
B12: D&A | C12: $245M
B13: Capex | C13: $330M - $400M
B14: Store openings | C14: 25
B16: SCENARIOS
B18: Base
C19: 2025 | G19: 2026 | K19: 2027 | O19: 2028 | S19: 2029
B20: Forecast Period Assumptions | C20: Q1 | D20: Q2 | E20: Q3 | F20: Q4 | G20: Q1 | H20: Q2 | I20: Q3 | J20: Q4 | K20: Q1 | L20: Q2 | M20: Q3 | N20: Q4 | O20: Q1 | P20: Q2 | Q20: Q3 | R20: Q4 | S20: Q1 | T20: Q2 | U20: Q3 | V20: Q4
B21: Sales Growth | C21: 0.03 | D21: 0.03 | E21: 0.03 | F21: 0.03 | G21: 0.02 | H21: 0.02 | I21: 0.02 | J21: 0.02 | K21: 0.0175 | L21: 0.0175 | M21: 0.0175 | N21: 0.0175 | O21: 0.01 | P21: 0.01 | Q21: 0.01 | R21: 0.01 | S21: 0.0075 | T21: 0.0075 | U21: 0.0075 | V21: 0.0075
B22: New Stores | C22: 3 | D22: 4 | E22: 7 | F22: 11 | G22: 3 | H22: 4 | I22: 7 | J22: 11 | K22: 3 | L22: 4 | M22: 7 | N22: 11 | O22: 3 | P22: 4 | Q22: 7 | R22: 11 | S22: 3 | T22: 4 | U22: 7 | V22: 11
B23: Total Stores | C23: ='Financial Statements & Metrics'!N4+'Assumptions & Drivers'!C22 -> 254 | D23: =C23+D22 -> 258 | E23: =D23+E22 -> 265 | F23: =E23+F22 -> 276 | G23: =F23+G22 -> 279 | H23: =G23+H22 -> 283 | I23: =H23+I22 -> 290 | J23: =I23+J22 -> 301 | K23: =J23+K22 -> 304 | ... V23: =U23+V22 -> 376
B25: COGS % Rev | C25: ='Financial Statements & Metrics'!$N$104 -> 0.56536568 | D25: ='Financial Statements & Metrics'!$N$104 -> 0.56536568 | E25: ='Financial Statements & Metrics'!$N$104 -> 0.56536568 | F25: ='Financial Statements & Metrics'!$N$104 -> 0.56536568 | G25: ='Financial Statements & Metrics'!$N$104 -> 0.56536568 | H25: ='Financial Statements & Metrics'!$N$104 -> 0.56536568 | I25: ='Financial Statements & Metrics'!$N$104 -> 0.56536568 | J25: ='Financial Statements & Metrics'!$N$104 -> 0.56536568 | ... V25: ='Financial Statements & Metrics'!$N$104 -> 0.56536568
B26: SG&A % Rev | C26: ='Financial Statements & Metrics'!N106 -> 0.38115848 | D26: =C26-(($C$26-$V$26)/19) -> 0.37927518 | E26: =D26-(($C$26-$V$26)/19) -> 0.37739189 | F26: =E26-(($C$26-$V$26)/19) -> 0.37550859 | G26: =F26-(($C$26-$V$26)/19) -> 0.3736253 | H26: =G26-(($C$26-$V$26)/19) -> 0.371742 | I26: =H26-(($C$26-$V$26)/19) -> 0.36985871 | J26: =I26-(($C$26-$V$26)/19) -> 0.36797541 | K26: =J26-(($C$26-$V$26)/19) -> 0.36609211 | ... U26: =T26-(($C$26-$V$26)/19) -> 0.34725916 | V26: ='Financial Statements & Metrics'!P106 -> 0.34537586
B27: D&A % Rev | C27: 0.05 | D27: 0.05 | E27: 0.05 | F27: 0.05 | G27: 0.05 | H27: 0.05 | I27: 0.05 | J27: 0.05 | K27: 0.05 | L27: 0.05 | M27: 0.05 | N27: 0.05 | O27: 0.05 | P27: 0.05 | Q27: 0.05 | R27: 0.05 | S27: 0.05 | T27: 0.05 | U27: 0.05 | V27: 0.05
B28: Tax Rate | C28: 0.215 | D28: 0.215 | E28: 0.215 | F28: 0.215 | G28: ='Financial Statements & Metrics'!$P$113 -> 0.20644366 | H28: ='Financial Statements & Metrics'!$P$113 -> 0.20644366 | I28: ='Financial Statements & Metrics'!$P$113 -> 0.20644366 | J28: ='Financial Statements & Metrics'!$P$113 -> 0.20644366 | K28: ='Financial Statements & Metrics'!$P$113 -> 0.20644366 | L28: ='Financial Statements & Metrics'!$P$113 -> 0.20644366 | M28: ='Financial Statements & Metrics'!$P$113 -> 0.20644366 | N28: ='Financial Statements & Metrics'!$P$113 -> 0.20644366 | ... V28: ='Financial Statements & Metrics'!$P$113 -> 0.20644366
B30: Seasonality | C30: 1.01 | D30: 0.99 | E30: 0.98 | F30: 1.02 | G30: 1.01 | H30: 0.99 | I30: 0.98 | J30: 1.02 | K30: 1.01 | L30: 0.99 | M30: 0.98 | N30: 1.02 | O30: 1.01 | P30: 0.99 | Q30: 0.98 | R30: 1.02 | S30: 1.01 | T30: 0.99 | U30: 0.98 | V30: 1.02
B31: Net Working Capital | C31: =DCF!D14*0.025*C30 -> 28801.122 | D31: =DCF!E14*0.025*D30 -> 29077.726 | E31: =DCF!F14*0.025*E30 -> 29647.532 | F31: =DCF!G14*0.025*F30 -> 31783.365 | G31: =DCF!H14*0.025*G30 -> 32101.198 | H31: =DCF!I14*0.025*H30 -> 32094.842 | I31: =DCF!J14*0.025*I30 -> 32406.065 | J31: =DCF!K14*0.025*J30 -> 34403.336 | ... V31: =DCF!W14*0.025*V30 -> 39537.021
B32: Change in NWC | C32: =C31-'Financial Statements & Metrics'!N$70 -> -12090.878 | D32: =D31-C31 -> 276.60483 | E32: =E31-D31 -> 569.80595 | F32: =F31-E31 -> 2135.8324 | G32: =G31-F31 -> 317.83365 | H32: =H31-G31 -> -6.356673 | I32: =I31-H31 -> 311.22271 | J32: =J31-I31 -> 1997.2717 | K32: =K31-J31 -> 258.86824 | ... V32: =V31-U31 -> 1833.2497
B34: Upside
C35: 2025 | G35: 2026 | K35: 2027 | O35: 2028 | S35: 2029
B36: Forecast Period Assumptions | C36: Q1 | D36: Q2 | E36: Q3 | F36: Q4 | G36: Q1 | H36: Q2 | I36: Q3 | J36: Q4 | K36: Q1 | L36: Q2 | M36: Q3 | N36: Q4 | O36: Q1 | P36: Q2 | Q36: Q3 | R36: Q4 | S36: Q1 | T36: Q2 | U36: Q3 | V36: Q4
B37: Sales Growth | C37: 0.035 | D37: 0.035 | E37: 0.035 | F37: 0.035 | G37: 0.025 | H37: 0.025 | I37: 0.025 | J37: 0.025 | K37: 0.025 | L37: 0.025 | M37: 0.025 | N37: 0.025 | O37: 0.025 | P37: 0.025 | Q37: 0.025 | R37: 0.025 | S37: 0.025 | T37: 0.025 | U37: 0.025 | V37: 0.025
B38: New Stores | C38: 3 | D38: 4 | E38: 7 | F38: 11 | G38: 3 | H38: 4 | I38: 7 | J38: 11 | K38: 3 | L38: 4 | M38: 7 | N38: 11 | O38: 3 | P38: 4 | Q38: 7 | R38: 11 | S38: 3 | T38: 4 | U38: 7 | V38: 11
B39: Total Stores | C39: ='Financial Statements & Metrics'!N4+'Assumptions & Drivers'!C38 -> 254 | D39: =C39+D38 -> 258 | E39: =D39+E38 -> 265 | F39: =E39+F38 -> 276 | G39: =F39+G38 -> 279 | H39: =G39+H38 -> 283 | I39: =H39+I38 -> 290 | J39: =I39+J38 -> 301 | K39: =J39+K38 -> 304 | ... V39: =U39+V38 -> 376
B41: COGS % Rev | C41: ='Financial Statements & Metrics'!$N$104 -> 0.56536568 | D41: =C41-0.0025 -> 0.56286568 | E41: =D41-0.0025 -> 0.56036568 | F41: =E41-0.0025 -> 0.55786568 | G41: =F41-0.0025 -> 0.55536568 | H41: =G41-0.0025 -> 0.55286568 | I41: =H41-0.0025 -> 0.55036568 | J41: =I41-0.0025 -> 0.54786568 | K41: =J41-0.0025 -> 0.54536568 | ... V41: =U41-0.0025 -> 0.51786568
B42: SG&A % Rev | C42: ='Financial Statements & Metrics'!N$106 -> 0.38115848 | D42: =C42-(($C$26-$V$26)/19) -> 0.37927518 | E42: =D42-(($C$26-$V$26)/19) -> 0.37739189 | F42: =E42-(($C$26-$V$26)/19) -> 0.37550859 | G42: =F42-(($C$26-$V$26)/19) -> 0.3736253 | H42: =G42-(($C$26-$V$26)/19) -> 0.371742 | I42: =H42-(($C$26-$V$26)/19) -> 0.36985871 | J42: =I42-(($C$26-$V$26)/19) -> 0.36797541 | K42: =J42-(($C$26-$V$26)/19) -> 0.36609211 | ... U42: =T42-(($C$26-$V$26)/19) -> 0.34725916 | V42: ='Financial Statements & Metrics'!P$106 -> 0.34537586
B43: D&A % Rev | C43: 0.05 | D43: 0.05 | E43: 0.05 | F43: 0.05 | G43: 0.05 | H43: 0.05 | I43: 0.05 | J43: 0.05 | K43: 0.05 | L43: 0.05 | M43: 0.05 | N43: 0.05 | O43: 0.05 | P43: 0.05 | Q43: 0.05 | R43: 0.05 | S43: 0.05 | T43: 0.05 | U43: 0.05 | V43: 0.05
B44: Tax Rate | C44: 0.215 | D44: 0.215 | E44: 0.215 | F44: 0.215 | G44: ='Financial Statements & Metrics'!$P$113 -> 0.20644366 | H44: ='Financial Statements & Metrics'!$P$113 -> 0.20644366 | I44: ='Financial Statements & Metrics'!$P$113 -> 0.20644366 | J44: ='Financial Statements & Metrics'!$P$113 -> 0.20644366 | K44: ='Financial Statements & Metrics'!$P$113 -> 0.20644366 | L44: ='Financial Statements & Metrics'!$P$113 -> 0.20644366 | M44: ='Financial Statements & Metrics'!$P$113 -> 0.20644366 | N44: ='Financial Statements & Metrics'!$P$113 -> 0.20644366 | ... V44: ='Financial Statements & Metrics'!$P$113 -> 0.20644366
B46: Seasonality | C46: 1.01 | D46: 0.99 | E46: 0.98 | F46: 1.02 | G46: 1.01 | H46: 0.99 | I46: 0.98 | J46: 1.02 | K46: 1.01 | L46: 0.99 | M46: 0.98 | N46: 1.02 | O46: 1.01 | P46: 0.99 | Q46: 0.98 | R46: 1.02 | S46: 1.01 | T46: 0.99 | U46: 0.98 | V46: 1.02
B47: Net Working Capital | C47: =DCF!D14*0.025*C46 -> 28801.122 | D47: =DCF!E14*0.025*D46 -> 29077.726 | E47: =DCF!F14*0.025*E46 -> 29647.532 | F47: =DCF!G14*0.025*F46 -> 31783.365 | G47: =DCF!H14*0.025*G46 -> 32101.198 | H47: =DCF!I14*0.025*H46 -> 32094.842 | I47: =DCF!J14*0.025*I46 -> 32406.065 | J47: =DCF!K14*0.025*J46 -> 34403.336 | ... V47: =DCF!W14*0.025*V46 -> 39537.021
B48: Change in NWC | C48: =C47-'Financial Statements & Metrics'!N$70 -> -12090.878 | D48: =D47-C47 -> 276.60483 | E48: =E47-D47 -> 569.80595 | F48: =F47-E47 -> 2135.8324 | G48: =G47-F47 -> 317.83365 | H48: =H47-G47 -> -6.356673 | I48: =I47-H47 -> 311.22271 | J48: =J47-I47 -> 1997.2717 | K48: =K47-J47 -> 258.86824 | ... V48: =V47-U47 -> 1833.2497
...

Sheet DCF Summary
B1: Stock price (4/22/2025) | C1: 68.3
B3: Valuation Summary | C3: Upside | F3: Valuation Summary | G3: Base | J3: Valuation Summary | K3: Downside
C4: Probability | D4: 0.2 | G4: Probability | H4: 0.6 | K4: Probability | L4: 0.2
B6: Enterprise value | C6: =DCF!C70 -> 13486260 | F6: Enterprise value | G6: =DCF!C36 -> 5698842.9 | J6: Enterprise value | K6: =DCF!C104 -> 1657022.4
B7: Debt | C7: ='Financial Statements & Metrics'!$N$50 -> 194527 | F7: Debt | G7: ='Financial Statements & Metrics'!$N$50 -> 194527 | J7: Debt | K7: ='Financial Statements & Metrics'!$N$50 -> 194527
B8: Lease Liabilities | C8: ='Financial Statements & Metrics'!$N$52 -> 1351282 | F8: Lease Liabilities | G8: ='Financial Statements & Metrics'!$N$52 -> 1351282 | J8: Lease Liabilities | K8: ='Financial Statements & Metrics'!$N$52 -> 1351282
B9: Cash & Cash Equivalents | C9: ='Financial Statements & Metrics'!$N$28+'Financial Statements & Metrics'!$N$29 -> 209404 | F9: Cash & Cash Equivalents | G9: ='Financial Statements & Metrics'!$N$28+'Financial Statements & Metrics'!$N$29 -> 209404 | J9: Cash & Cash Equivalents | K9: ='Financial Statements & Metrics'!$N$28+'Financial Statements & Metrics'!$N$29 -> 209404
B10: Equity Value | C10: =C6-C7-C8+C9 -> 12149855 | F10: Equity Value | G10: =G6-G7-G8+G9 -> 4362437.9 | J10: Equity Value | K10: =K6-K7-K8+K9 -> 320617.43
B11: Shares outstanding | C11: ='Financial Statements & Metrics'!$N$23 -> 108431 | D11: Implied Return | F11: Shares outstanding | G11: ='Financial Statements & Metrics'!$N$23 -> 108431 | H11: Implied Return | J11: Shares outstanding | K11: ='Financial Statements & Metrics'!$N$23 -> 108431 | L11: Implied Return
B12: Equity value per share | C12: =C10/C11 -> 112.05149 | D12: =(C12/$C$1)-1 -> 0.64057813 | F12: Equity value per share | G12: =G10/G11 -> 40.232386 | H12: =(G12/$C$1)-1 -> -0.41094603 | J12: Equity value per share | K12: =K10/K11 -> 2.9568798 | L12: =(K12/$C$1)-1 -> -0.95670747
B14: Scenario | C14: Probability | D14: Share Price
B15: Upside | C15: =D4 -> 0.2 | D15: =C12 -> 112.05149
B16: Base | C16: =H4 -> 0.6 | D16: =G12 -> 40.232386
B17: Downside | C17: =L4 -> 0.2 | D17: =K12 -> 2.9568798
B19: Blended share price | D19: =SUMPRODUCT(C15:C17,D15:D17) -> 47.141105
B20: Implied Return | D20: =D19/C1-1 -> -0.30979349

Sheet DCF
A1: *as of 4/22/2025
A2: in thousands, except per share data
B4: Base
C5: Historical | D5: Forecast
C6: 2024 Q4 | D6: 2025 Q1 | E6: 2025 Q2 | F6: 2025 Q3 | G6: 2025 Q4 | H6: 2026 Q1 | I6: 2026 Q2 | J6: 2026 Q3 | K6: 2026 Q4 | L6: 2027 Q1 | M6: 2027 Q2 | N6: 2027 Q3 | O6: 2027 Q4 | P6: 2028 Q1 | Q6: 2028 Q2 | R6: 2028 Q3 | S6: 2028 Q4 | T6: 2029 Q1 | U6: 2029 Q2 | V6: 2029 Q3 | W6: 2029 Q4 | X6: CAGR qtrly | Y6: Annualized
B7: Net Sales | C7: ='Financial Statements & Metrics'!$N$10 -> 1107416 | D7: =C7*(1+D$8) -> 1140638.5 | E7: =D7*(1+E$8) -> 1174857.6 | F7: =E7*(1+F$8) -> 1210103.4 | G7: =F7*(1+G$8) -> 1246406.5 | H7: =G7*(1+H$8) -> 1271334.6 | I7: =H7*(1+I$8) -> 1296761.3 | J7: =I7*(1+J$8) -> 1322696.5 | K7: =J7*(1+K$8) -> 1349150.4 | ... W7: =V7*(1+W$8) -> 1550471.4
B8: % Growth | D8: ='Assumptions & Drivers'!C$21 -> 0.03 | E8: ='Assumptions & Drivers'!D$21 -> 0.03 | F8: ='Assumptions & Drivers'!E$21 -> 0.03 | G8: ='Assumptions & Drivers'!F$21 -> 0.03 | H8: ='Assumptions & Drivers'!G$21 -> 0.02 | I8: ='Assumptions & Drivers'!H$21 -> 0.02 | J8: ='Assumptions & Drivers'!I$21 -> 0.02 | K8: ='Assumptions & Drivers'!J$21 -> 0.02 | ... W8: ='Assumptions & Drivers'!V$21 -> 0.0075 | X8: =((W7/D7)^(1/20))-1 -> 0.015466936 | Y8: =((1+X8)^4)-1 -> 0.06331796
B10: Same store sales | C10: =C7/'Financial Statements & Metrics'!$N$4 -> 4412.0159 | D10: =D7/'Assumptions & Drivers'!C$23 -> 4490.7027 | E10: =E7/'Assumptions & Drivers'!D$23 -> 4553.7118 | F10: =F7/'Assumptions & Drivers'!E$23 -> 4566.4278 | G10: =G7/'Assumptions & Drivers'!F$23 -> 4515.9655 | H10: =H7/'Assumptions & Drivers'!G$23 -> 4556.7548 | I10: =I7/'Assumptions & Drivers'!H$23 -> 4582.1954 | J10: =J7/'Assumptions & Drivers'!I$23 -> 4561.0225 | K10: =K7/'Assumptions & Drivers'!J$23 -> 4482.2274 | ... W10: =W7/'Assumptions & Drivers'!V$23 -> 4123.5942
B11: Same store sales growth | D11: =(D10/C10-1) -> 0.017834646 | E11: =(E10/D10-1) -> 0.014031008 | F11: =(F10/E10-1) -> 0.0027924528 | G11: =(G10/F10-1) -> -0.011050725 | H11: =(H10/G10-1) -> 0.0090322581 | I11: =(I10/H10-1) -> 0.0055830389 | J11: =(J10/I10-1) -> -0.0046206897 | K11: =(K10/J10-1) -> -0.017275748 | ... W11: =(W10/V10-1) -> -0.021974734
B13: Unlevered FCF
B14: Revenue | C14: =C7 -> 1107416 | D14: =D7 -> 1140638.5 | E14: =E7 -> 1174857.6 | F14: =F7 -> 1210103.4 | G14: =G7 -> 1246406.5 | H14: =H7 -> 1271334.6 | I14: =I7 -> 1296761.3 | J14: =J7 -> 1322696.5 | ... W14: =W7 -> 1550471.4
B15: % Growth | D15: =D8 -> 0.03 | E15: =E8 -> 0.03 | F15: =F8 -> 0.03 | G15: =G8 -> 0.03 | H15: =H8 -> 0.02 | I15: =I8 -> 0.02 | J15: =J8 -> 0.02 | K15: =K8 -> 0.02 | ... W15: =W8 -> 0.0075
B16: COGS | C16: =C14*'Financial Statements & Metrics'!$N$104 -> 626095 | D16: =D14*'Assumptions & Drivers'!C$25 -> 644877.85 | E16: =E14*'Assumptions & Drivers'!D$25 -> 664224.19 | F16: =F14*'Assumptions & Drivers'!E$25 -> 684150.91 | G16: =G14*'Assumptions & Drivers'!F$25 -> 704675.44 | H16: =H14*'Assumptions & Drivers'!G$25 -> 718768.95 | I16: =I14*'Assumptions & Drivers'!H$25 -> 733144.33 | J16: =J14*'Assumptions & Drivers'!I$25 -> 747807.21 | K16: =K14*'Assumptions & Drivers'!J$25 -> 762763.36 | ... W16: =W14*'Assumptions & Drivers'!V$25 -> 876583.33
B17: Gross Profit | C17: =C14-C16 -> 481321 | D17: =D14-D16 -> 495760.63 | E17: =E14-E16 -> 510633.45 | F17: =F14-F16 -> 525952.45 | G17: =G14-G16 -> 541731.03 | H17: =H14-H16 -> 552565.65 | I17: =I14-I16 -> 563616.96 | J17: =J14-J16 -> 574889.3 | ... W17: =W14-W16 -> 673888.09
B18: SG&A | C18: =C14*'Financial Statements & Metrics'!$N$106 -> 422101 | D18: =D14*'Assumptions & Drivers'!C$26 -> 434764.03 | E18: =E14*'Assumptions & Drivers'!D$26 -> 445594.35 | F18: =F14*'Assumptions & Drivers'!E$26 -> 456683.19 | G18: =G14*'Assumptions & Drivers'!F$26 -> 468036.34 | H18: =H14*'Assumptions & Drivers'!G$26 -> 475002.77 | I18: =I14*'Assumptions & Drivers'!H$26 -> 482060.64 | J18: =J14*'Assumptions & Drivers'!I$26 -> 489210.82 | K18: =K14*'Assumptions & Drivers'!J$26 -> 496454.19 | ... W18: =W14*'Assumptions & Drivers'!V$26 -> 535495.4
B19: EBIT | C19: =C17-C18 -> 59220 | D19: =D17-D18 -> 60996.6 | E19: =E17-E18 -> 65039.102 | F19: =F17-F18 -> 69269.258 | G19: =G17-G18 -> 73694.688 | H19: =H17-H18 -> 77562.88 | I19: =I17-I18 -> 81556.323 | J19: =J17-J18 -> 85678.478 | ... W19: =W17-W18 -> 138392.69
B20: Tax rate | C20: ='Financial Statements & Metrics'!$N$113 -> 0.19863638 | D20: ='Assumptions & Drivers'!C$28 -> 0.215 | E20: ='Assumptions & Drivers'!D$28 -> 0.215 | F20: ='Assumptions & Drivers'!E$28 -> 0.215 | G20: ='Assumptions & Drivers'!F$28 -> 0.215 | H20: ='Assumptions & Drivers'!G$28 -> 0.20644366 | I20: ='Assumptions & Drivers'!H$28 -> 0.20644366 | J20: ='Assumptions & Drivers'!I$28 -> 0.20644366 | K20: ='Assumptions & Drivers'!J$28 -> 0.20644366 | ... W20: ='Assumptions & Drivers'!V$28 -> 0.20644366
B21: NOPAT | C21: =C19*(1-C20) -> 47456.754 | D21: =D19*(1-D20) -> 47882.331 | E21: =E19*(1-E20) -> 51055.695 | F21: =F19*(1-F20) -> 54376.367 | G21: =G19*(1-G20) -> 57850.33 | H21: =H19*(1-H20) -> 61550.515 | I21: =I19*(1-I20) -> 64719.537 | J21: =J19*(1-J20) -> 67990.7 | ... W21: =W19*(1-W20) -> 109822.4
B23: D&A | C23: =C14*'Financial Statements & Metrics'!$N$100 -> 59783 | D23: =D14*'Assumptions & Drivers'!C$27 -> 57031.924 | E23: =E14*'Assumptions & Drivers'!D$27 -> 58742.882 | F23: =F14*'Assumptions & Drivers'!E$27 -> 60505.168 | G23: =G14*'Assumptions & Drivers'!F$27 -> 62320.323 | H23: =H14*'Assumptions & Drivers'!G$27 -> 63566.73 | I23: =I14*'Assumptions & Drivers'!H$27 -> 64838.064 | J23: =J14*'Assumptions & Drivers'!I$27 -> 66134.826 | K23: =K14*'Assumptions & Drivers'!J$27 -> 67457.522 | ... W23: =W14*'Assumptions & Drivers'!V$27 -> 77523.571
B24: Change in NWC | C24: ='Financial Statements & Metrics'!$N$71 -> 27032 | D24: ='Assumptions & Drivers'!C$32 -> -12090.878 | E24: ='Assumptions & Drivers'!D$32 -> 276.60483 | F24: ='Assumptions & Drivers'!E$32 -> 569.80595 | G24: ='Assumptions & Drivers'!F$32 -> 2135.8324 | H24: ='Assumptions & Drivers'!G$32 -> 317.83365 | I24: ='Assumptions & Drivers'!H$32 -> -6.356673 | J24: ='Assumptions & Drivers'!I$32 -> 311.22271 | K24: ='Assumptions & Drivers'!J$32 -> 1997.2717 | ... W24: ='Assumptions & Drivers'!V$32 -> 1833.2497
B25: Capex | C25: 90000 | D25: 90000 | E25: 90000 | F25: 90000 | G25: 90000 | H25: 100000 | I25: 100000 | J25: 100000 | K25: 100000 | L25: 100000 | M25: 100000 | N25: 100000 | O25: 100000 | P25: 100000 | Q25: 100000 | R25: 100000 | S25: 100000 | T25: 100000 | U25: 100000 | V25: 100000 | W25: 100000
B27: Unlevered FCF | C27: =C21+C23-C24-C25 -> -9792.2464 | D27: =D21+D23-D24-D25 -> 27005.133 | E27: =E21+E23-E24-E25 -> 19521.972 | F27: =F21+F23-F24-F25 -> 24311.73 | G27: =G21+G23-G24-G25 -> 28034.821 | H27: =H21+H23-H24-H25 -> 24799.411 | I27: =I21+I23-I24-I25 -> 29563.958 | J27: =J21+J23-J24-J25 -> 33814.302 | ... W27: =W21+W23-W24-W25 -> 85512.717
B28: Present Value | D28: =D27/(1+'Assumptions & Drivers'!$D$3)^1 -> 26351.324 | E28: =E27/(1+'Assumptions & Drivers'!$D$3)^2 -> 18588.14 | F28: =F27/(1+'Assumptions & Drivers'!$D$3)^3 -> 22588.335 | G28: =G27/(1+'Assumptions & Drivers'!$D$3)^4 -> 25416.882 | H28: =H27/(1+'Assumptions & Drivers'!$D$3)^5 -> 21939.26 | I28: =I27/(1+'Assumptions & Drivers'!$D$3)^6 -> 25521.095 | J28: =J27/(1+'Assumptions & Drivers'!$D$3)^7 -> 28483.495 | K28: =K27/(1+'Assumptions & Drivers'!$D$3)^8 -> 30270.26 | L28: =L27/(1+'Assumptions & Drivers'!$D$3)^9 -> 34525.73 | M28: =M27/(1+'Assumptions & Drivers'!$D$3)^10 -> 37560.782 | N28: =N27/(1+'Assumptions & Drivers'!$D$3)^11 -> 39989.361 | O28: =O27/(1+'Assumptions & Drivers'!$D$3)^12 -> 41276.286 | P28: =P27/(1+'Assumptions & Drivers'!$D$3)^13 -> 44501.101 | Q28: =Q27/(1+'Assumptions & Drivers'!$D$3)^14 -> 46396.075 | R28: =R27/(1+'Assumptions & Drivers'!$D$3)^15 -> 47706.818 | S28: =S27/(1+'Assumptions & Drivers'!$D$3)^16 -> 47944.035 | T28: =T27/(1+'Assumptions & Drivers'!$D$3)^17 -> 50424.451 | U28: =U27/(1+'Assumptions & Drivers'!$D$3)^18 -> 51771.149 | V28: =V27/(1+'Assumptions & Drivers'!$D$3)^19 -> 52573.221 | W28: =W27/(1+'Assumptions & Drivers'!$D$3)^20 -> 52378.51
B29: Stage 1 Sum of PVs | C29: =SUM(D28:W28) -> 746206.31
B31: Terminal Value
B32: Long-term growth rate (qtrly) | C32: ='Assumptions & Drivers'!$D$4 -> 0.0074170718
B33: 2029 Q4 FCF * (1 + g) | C33: =W27*(1+C32) -> 86146.971
B34: TV | C34: =C33/('Assumptions & Drivers'!$D$3-'Assumptions & Drivers'!$D$4) -> 4952636.6
B36: Enterprise Value | C36: =C34+C29 -> 5698842.9
B38: Upside
C39: Historical | D39: Forecast
C40: 2024 Q4 | D40: 2025 Q1 | E40: 2025 Q2 | F40: 2025 Q3 | G40: 2025 Q4 | H40: 2026 Q1 | I40: 2026 Q2 | J40: 2026 Q3 | K40: 2026 Q4 | L40: 2027 Q1 | M40: 2027 Q2 | N40: 2027 Q3 | O40: 2027 Q4 | P40: 2028 Q1 | Q40: 2028 Q2 | R40: 2028 Q3 | S40: 2028 Q4 | T40: 2029 Q1 | U40: 2029 Q2 | V40: 2029 Q3 | W40: 2029 Q4 | X40: CAGR qtrly | Y40: Annualized
B41: Net Sales | C41: ='Financial Statements & Metrics'!$N$10 -> 1107416 | D41: =C41*(1+D$42) -> 1146175.6 | E41: =D41*(1+E$42) -> 1186291.7 | F41: =E41*(1+F$42) -> 1227811.9 | G41: =F41*(1+G$42) -> 1270785.3 | H41: =G41*(1+H$42) -> 1302555 | I41: =H41*(1+I$42) -> 1335118.8 | J41: =I41*(1+J$42) -> 1368496.8 | K41: =J41*(1+K$42) -> 1402709.2 | ... W41: =V41*(1+W$42) -> 1886488
B42: % Growth | D42: ='Assumptions & Drivers'!C$37 -> 0.035 | E42: ='Assumptions & Drivers'!D$37 -> 0.035 | F42: ='Assumptions & Drivers'!E$37 -> 0.035 | G42: ='Assumptions & Drivers'!F$37 -> 0.035 | H42: ='Assumptions & Drivers'!G$37 -> 0.025 | I42: ='Assumptions & Drivers'!H$37 -> 0.025 | J42: ='Assumptions & Drivers'!I$37 -> 0.025 | K42: ='Assumptions & Drivers'!J$37 -> 0.025 | ... W42: ='Assumptions & Drivers'!V$37 -> 0.025 | X42: =((W41/D41)^(1/20))-1 -> 0.025227259 | Y42: =((1+X42)^4)-1 -> 0.10479215
B44: Same store sales | C44: =C41/'Financial Statements & Metrics'!$N$4 -> 4412.0159 | D44: =D41/'Assumptions & Drivers'!C$39 -> 4512.5022 | E44: =E41/'Assumptions & Drivers'!D$39 -> 4598.0299 | F44: =F41/'Assumptions & Drivers'!E$39 -> 4633.2525 | G44: =G41/'Assumptions & Drivers'!F$39 -> 4604.2947 | H44: =H41/'Assumptions & Drivers'!G$39 -> 4668.6558 | I44: =I41/'Assumptions & Drivers'!H$39 -> 4717.7344 | J44: =J41/'Assumptions & Drivers'!I$39 -> 4718.9545 | K44: =K41/'Assumptions & Drivers'!J$39 -> 4660.1636 | ... W44: =W41/'Assumptions & Drivers'!V$39 -> 5017.2552
B45: Same store sales growth | D45: =(D44/C44-1) -> 0.022775591 | E45: =(E44/D44-1) -> 0.018953488 | F45: =(F44/E44-1) -> 0.0076603774 | G45: =(G44/F44-1) -> -0.00625 | H45: =(H44/G44-1) -> 0.013978495 | I45: =(I44/H44-1) -> 0.010512367 | J45: =(J44/I44-1) -> 0.00025862069 | K45: =(K44/J44-1) -> -0.012458472 | ... W45: =(W44/V44-1) -> -0.0049867021
B47: Unlevered FCF
B48: Revenue | C48: =C41 -> 1107416 | D48: =D41 -> 1146175.6 | E48: =E41 -> 1186291.7 | F48: =F41 -> 1227811.9 | G48: =G41 -> 1270785.3 | H48: =H41 -> 1302555 | I48: =I41 -> 1335118.8 | J48: =J41 -> 1368496.8 | ... W48: =W41 -> 1886488
B49: % Growth | D49: =D42 -> 0.035 | E49: =E42 -> 0.035 | F49: =F42 -> 0.035 | G49: =G42 -> 0.035 | H49: =H42 -> 0.025 | I49: =I42 -> 0.025 | J49: =J42 -> 0.025 | K49: =K42 -> 0.025 | ... W49: =W42 -> 0.025
B50: COGS | C50: =C48*'Financial Statements & Metrics'!$N$104 -> 626095 | D50: =D48*'Assumptions & Drivers'!C$41 -> 648008.32 | E50: =E48*'Assumptions & Drivers'!D$41 -> 667722.89 | F50: =F48*'Assumptions & Drivers'!E$41 -> 688023.66 | G50: =G48*'Assumptions & Drivers'!F$41 -> 708927.52 | H50: =H48*'Assumptions & Drivers'!G$41 -> 723394.32 | I50: =I48*'Assumptions & Drivers'!H$41 -> 738141.38 | J50: =J48*'Assumptions & Drivers'!I$41 -> 753173.68 | K50: =K48*'Assumptions & Drivers'!J$41 -> 768496.25 | ... W50: =W48*'Assumptions & Drivers'!V$41 -> 976947.37
...

Sheet WACC
B1: *as of 4/22/2025
B3: WACC Calculation
B5: Cost of Debt
D6: Rate | E6: Amount
B7: 2027 Term Loan | D7: 0.0657 | E7: 194527
B8: Tax rate (2025 guidance) | D8: 0.215
B9: After-tax cost of debt | D9: =D7*(1-D8) -> 0.0515745
B11: Cost of Equity
B12: Risk free rate | D12: 0.0433 | E12: 10-yr US treaury note
B13: Equity Risk Premium | D13: 0.0433 | E13: FactSet
B14: Beta | D14: 1.42 | E14: 3-yr adj. (FactSet)
B15: Cost of Equity | D15: =D12+(D14*D13) -> 0.104786
C17: Weight | D17: Current | E17: Cost of Capital
B18: Equity | C18: =D18/SUM($D$18:$D$19) -> 0.97440557 | D18: ='DCF Summary'!C1*'Financial Statements & Metrics'!N23 -> 7405837.3 | E18: =D15 -> 0.104786
B19: Debt | C19: =D19/SUM($D$18:$D$19) -> 0.025594431 | D19: ='Financial Statements & Metrics'!N50 -> 194527 | E19: =D9 -> 0.0515745
B20: WACC | E20: =SUMPRODUCT(E18:E19,C18:C19) -> 0.10342408

Sheet Financial Statements & Metrics
B1: Floor & Decor (FND) Financial Statements
B2: in thousands, except per share data
C3: 2022 Q1 | D3: 2022 Q2 | E3: 2022 Q3 | F3: 2022 Q4 | G3: 2023 Q1 | H3: 2023 Q2 | I3: 2023 Q3 | J3: 2023 Q4 | K3: 2024 Q1 | L3: 2024 Q2 | M3: 2024 Q3 | N3: 2024 Q4 | P3: Avg.
B4: # of Stores | C4: 166 | D4: 174 | E4: 178 | F4: 191 | G4: 194 | H4: 203 | I4: 207 | J4: 221 | K4: 225 | L4: 230 | M4: 241 | N4: 251
B5: New stores | D5: =D4-C4 -> 8 | E5: =E4-D4 -> 4 | F5: =F4-E4 -> 13 | G5: =G4-F4 -> 3 | H5: =H4-G4 -> 9 | I5: =I4-H4 -> 4 | J5: =J4-I4 -> 14 | K5: =K4-J4 -> 4 | ... N5: =N4-M4 -> 10 | P5: =AVERAGE(D5:N5) -> 7.7272727
B6: Avg. Sales/Store (thousands) | C6: =C10/C4 -> 6197.1928 | D6: =D10/D4 -> 6263.4828 | E6: =E10/E4 -> 6167.5506 | F6: =F10/F4 -> 5487.2723 | G6: =G10/G4 -> 5783.7732 | H6: =H10/H4 -> 5595.5616 | I6: =I10/I4 -> 5351.7488 | J6: =J10/J4 -> 4742.629 | ... N6: =N10/N4 -> 4412.0159
B7: % Change | D7: =(D6/C6)-1 -> 0.010696777 | E7: =(E6/D6)-1 -> -0.015316111 | F7: =(F6/E6)-1 -> -0.11029959 | G7: =(G6/F6)-1 -> 0.054034305 | H7: =(H6/G6)-1 -> -0.032541321 | I7: =(I6/H6)-1 -> -0.043572532 | J7: =(J6/I6)-1 -> -0.11381697 | K7: =(K6/J6)-1 -> 0.02829887 | ... N7: =(N6/M6)-1 -> -0.04886742 | P7: =AVERAGE(D7:N7) -> -0.029056168
B9: Income Statement | C9: 2022 Q1 | D9: 2022 Q2 | E9: 2022 Q3 | F9: 2022 Q4 | G9: 2023 Q1 | H9: 2023 Q2 | I9: 2023 Q3 | J9: 2023 Q4 | K9: 2024 Q1 | L9: 2024 Q2 | M9: 2024 Q3 | N9: 2024 Q4
B10: Net Sales | C10: 1028734 | D10: 1089846 | E10: 1097824 | F10: 1048069 | G10: 1122052 | H10: 1135899 | I10: 1107812 | J10: 1048121 | K10: 1097289 | L10: 1133139 | M10: 1117926 | N10: 1107416
B11: Cost of sales | C11: 620676 | D11: 653564 | E11: 650349 | F11: 612168 | G11: 652934 | H11: 656266 | I11: 640357 | J11: 605979 | K11: 627263 | L11: 642105 | M11: 632056 | N11: 626095
B12: Gross Profit | C12: 408058 | D12: 436282 | E12: 447475 | F12: 435901 | G12: 469118 | H12: 479633 | I12: 467455 | J12: 442142 | K12: 470026 | L12: 491034 | M12: 485870 | N12: 481321
B13: Operating expenses | C13: 314086 | D13: 329872 | E13: 345818 | F13: 341180 | G13: 373602 | H13: 384659 | I13: 382683 | J13: 395976 | K13: 410715 | L13: 419706 | M13: 419553 | N13: 422101
B14: Selling and store operating | C14: 249500 | D14: 268202 | E14: 280735 | F14: 280029 | G14: 303671 | H14: 311406 | I14: 308581 | J14: 315567 | K14: 334345 | L14: 341408 | M14: 339135 | N14: 347437
B15: General and administrative | C15: 54645 | D15: 53107 | E15: 54697 | F15: 51399 | G15: 61911 | H15: 63279 | I15: 59870 | J15: 67653 | K15: 66777 | L15: 67671 | M15: 67687 | N15: 64030
B16: Pre-opening | C16: 9941 | D16: 8563 | E16: 10386 | F16: 9752 | G16: 8020 | H16: 9974 | I16: 14232 | J16: 12756 | K16: 9593 | L16: 10627 | M16: 12731 | N16: 10634
B17: Operating Income | C17: 93972 | D17: 106410 | E17: 101657 | F17: 94721 | G17: 95516 | H17: 94974 | I17: 84772 | J17: 46166 | K17: 59311 | L17: 71328 | M17: 66317 | N17: 59220
B18: Interest expense, net | C18: 1162 | D18: 1672 | E18: 3032 | F18: 5272 | G18: 4862 | H18: 2898 | I18: 1246 | J18: 891 | K18: 1955 | L18: 663 | M18: 189 | N18: -34
B19: Income Before Taxes | C19: 92810 | D19: 104738 | E19: 98625 | F19: 89449 | G19: 90654 | H19: 92076 | I19: 83526 | J19: 45275 | K19: 57356 | L19: 70665 | M19: 66128 | N19: 59254
B20: Provision for income taxes | C20: 21859 | D20: 22906 | E20: 22450 | F20: 20212 | G20: 19130 | H20: 20624 | I20: 17603 | J20: 8194 | K20: 7324 | L20: 13999 | M20: 14438 | N20: 11770
B21: Net Income | C21: 70951 | D21: 81832 | E21: 76175 | F21: 69237 | G21: 71524 | H21: 71452 | I21: 65923 | J21: 37081 | K21: 50032 | L21: 56666 | M21: 51690 | N21: 47484
... B24: EPS (Diluted) | C24: 0.66 | D24: 0.76 | E24: 0.71 | F24: 0.64 | G24: 0.66 | H24: 0.66 | I24: 0.61 | J24: 0.34 | K24: 0.46 | L24: 0.52 | M24: 0.48 | N24: 0.44
B26: Balance Sheet | C26: 2022 Q1 | D26: 2022 Q2 | E26: 2022 Q3 | F26: 2022 Q4 | G26: 2023 Q1 | H26: 2023 Q2 | I26: 2023 Q3 | J26: 2023 Q4 | K26: 2024 Q1 | L26: 2024 Q2 | M26: 2024 Q3 | N26: 2024 Q4
B27: Current Assets
B28: Cash & cash equivalents | C28: 31828 | D28: 6177 | E28: 7687 | F28: 9794 | G28: 5034 | H28: 4171 | I28: 61628 | J28: 34382 | K28: 57426 | L28: 138063 | M28: 180771 | N28: 187669
B29: Income taxes receivable | C29: 0 | D29: 14188 | E29: 9867 | F29: 7325 | G29: 0 | H29: 14085 | I29: 16157 | J29: 27870 | K29: 15830 | L29: 4109 | M29: 3317 | N29: 21735
B30: Receivables (net) | C30: 97754 | D30: 97502 | E30: 102580 | F30: 94732 | G30: 87992 | H30: 88201 | I30: 97733 | J30: 99513 | K30: 100951 | L30: 109334 | M30: 104351 | N30: 101486
B31: Inventories (net) | C31: 1149531 | D31: 1344136 | E31: 1320456 | F31: 1292336 | G31: 1181147 | H31: 1172486 | I31: 1105450 | J31: 1106150 | K31: 1032130 | L31: 1037284 | M31: 1046007 | N31: 1132599
B32: Prepaid expenses & other current assets | C32: 43368 | D32: 49265 | E32: 56502 | F32: 53298 | G32: 54300 | H32: 56590 | I32: 55134 | J32: 48725 | K32: 49746 | L32: 53415 | M32: 54419 | N32: 48896
B33: Total Current Assets | C33: 1322481 | D33: 1511268 | E33: 1497092 | F33: 1457485 | G33: 1328473 | H33: 1335533 | I33: 1336102 | J33: 1316640 | K33: 1256083 | L33: 1342205 | M33: 1388865 | N33: 1492385
B34: Fixed assets (net) | C34: 1007942 | D34: 1085779 | E34: 1164119 | F34: 1258056 | G34: 1344987 | H34: 1443504 | I34: 1562616 | J34: 1629917 | K34: 1651373 | L34: 1700787 | M34: 1763980 | N34: 1786587
B35: Right-of-use-assets | C35: 1136515 | D35: 1177686 | E35: 1157347 | F35: 1205636 | G35: 1231509 | H35: 1257684 | I35: 1306475 | J35: 1282625 | K35: 1317694 | L35: 1342345 | M35: 1346653 | N35: 1331238
B36: Intangibles (net) | C36: 151798 | D36: 151620 | E36: 150851 | F36: 152353 | G36: 151590 | H36: 155733 | I36: 154786 | J36: 153869 | K36: 152953 | L36: 152036 | M36: 151119 | N36: 150203
B37: Goodwill | C37: 255473 | D37: 255473 | E37: 255473 | F37: 255473 | G37: 255473 | H37: 258861 | I37: 257940 | J37: 257940 | K37: 257940 | L37: 257940 | M37: 257940 | N37: 257940
B38: Deferred income tax assets (net) | C38: 8999 | D38: 8090 | E38: 8024 | F38: 11265 | G38: 14073 | H38: 15658 | I38: 12446 | J38: 14227 | K38: 15406 | L38: 15239 | M38: 16635 | N38: 17082
B39: Other assets | C39: 10179 | D39: 9461 | E39: 11762 | F39: 10974 | G39: 9088 | H39: 8497 | I39: 7717 | J39: 7332 | K39: 7211 | L39: 7510 | M39: 7037 | N39: 15043
... B41: TOTAL ASSETS | C41: 3893387 | D41: 4199377 | E41: 4244668 | F41: 4351242 | G41: 4335193 | H41: 4475470 | I41: 4638082 | J41: 4662550 | K41: 4658660 | L41: 4818062 | M41: 4932229 | N41: 5050478
B43: Current Liabilities
B44: Current portion of term loan | C44: 1577 | D44: 1577 | E44: 2103 | F44: 2103 | G44: 2103 | H44: 2103 | I44: 2103 | J44: 2103 | K44: 2103 | L44: 2103 | M44: 2103 | N44: 2103
B45: Current portion of lease liabilities | C45: 109670 | D45: 112987 | E45: 107258 | F45: 105693 | G45: 113798 | H45: 118960 | I45: 125348 | J45: 126428 | K45: 129150 | L45: 132770 | M45: 134629 | N45: 138646
B46: Trade accounts payable | C46: 688488 | D46: 770198 | E46: 642136 | F46: 590883 | G46: 572475 | H46: 664679 | I46: 706325 | J46: 679265 | K46: 641180 | L46: 698716 | M46: 737845 | N46: 794855
...

Sheet Checks
B2: Financial Statement Checks | C2: 2022 Q1 | D2: 2022 Q2 | E2: 2022 Q3 | F2: 2022 Q4 | G2: 2023 Q1 | H2: 2023 Q2 | I2: 2023 Q3 | J2: 2023 Q4 | K2: 2024 Q1 | L2: 2024 Q2 | M2: 2024 Q3 | N2: 2024 Q4
B4: Balance Sheet
B5: A = L + E | C5: ='Financial Statements & Metrics'!C41-'Financial Statements & Metrics'!C61 -> 0 | D5: ='Financial Statements & Metrics'!D41-'Financial Statements & Metrics'!D61 -> 0 | E5: ='Financial Statements & Metrics'!E41-'Financial Statements & Metrics'!E61 -> 0 | F5: ='Financial Statements & Metrics'!F41-'Financial Statements & Metrics'!F61 -> 0 | G5: ='Financial Statements & Metrics'!G41-'Financial Statements & Metrics'!G61 -> 0 | H5: ='Financial Statements & Metrics'!H41-'Financial Statements & Metrics'!H61 -> 0 | I5: ='Financial Statements & Metrics'!I41-'Financial Statements & Metrics'!I61 -> 0 | J5: ='Financial Statements & Metrics'!J41-'Financial Statements & Metrics'!J61 -> 0 | ... N5: ='Financial Statements & Metrics'!N41-'Financial Statements & Metrics'!N61 -> 0
B7: Cash Flow Statement
B8: Net Income CFS = Net Income IS | C8: ='Financial Statements & Metrics'!C76-'Financial Statements & Metrics'!C21 -> 0 | D8: ='Financial Statements & Metrics'!D76-'Financial Statements & Metrics'!D21 -> 0 | E8: ='Financial Statements & Metrics'!E76-'Financial Statements & Metrics'!E21 -> 0 | F8: ='Financial Statements & Metrics'!F76-'Financial Statements & Metrics'!F21 -> 0 | G8: ='Financial Statements & Metrics'!G76-'Financial Statements & Metrics'!G21 -> 0 | H8: ='Financial Statements & Metrics'!H76-'Financial Statements & Metrics'!H21 -> 0 | I8: ='Financial Statements & Metrics'!I76-'Financial Statements & Metrics'!I21 -> 0 | J8: ='Financial Statements & Metrics'!J76-'Financial Statements & Metrics'!J21 -> 0 | ... N8: ='Financial Statements & Metrics'!N76-'Financial Statements & Metrics'!N21 -> 0
B9: Change in Cash CFS = Change in Cash BS | D9: ='Financial Statements & Metrics'!D98-('Financial Statements & Metrics'!D28-'Financial Statements & Metrics'!C28) -> 0 | E9: ='Financial Statements & Metrics'!E98-('Financial Statements & Metrics'!E28-'Financial Statements & Metrics'!D28) -> 0 | F9: ='Financial Statements & Metrics'!F98-('Financial Statements & Metrics'!F28-'Financial Statements & Metrics'!E28) -> 0 | G9: ='Financial Statements & Metrics'!G98-('Financial Statements & Metrics'!G28-'Financial Statements & Metrics'!F28) -> 0 | H9: ='Financial Statements & Metrics'!H98-('Financial Statements & Metrics'!H28-'Financial Statements & Metrics'!G28) -> 0 | I9: ='Financial Statements & Metrics'!I98-('Financial Statements & Metrics'!I28-'Financial Statements & Metrics'!H28) -> 0 | J9: ='Financial Statements & Metrics'!J98-('Financial Statements & Metrics'!J28-'Financial Statements & Metrics'!I28) -> 0 | K9: ='Financial Statements & Metrics'!K98-('Financial Statements & Metrics'!K28-'Financial Statements & Metrics'!J28) -> 0 | ... N9: ='Financial Statements & Metrics'!N98-('Financial Statements & Metrics'!N28-'Financial Statements & Metrics'!M28) -> 0

Sheet Ratios & Estimates >>>

Sheet Ratio Analysis Quarterly
B1: Floor & Decor Holdings, Inc. Class A (FND)
B2: *sourced from FactSet to ensure like for like comparison across metrics and comps
B5: Floor & Decor Holdings, Inc. Class A
B6: FND 339750101 BYQHP96 NYSE Common stock
B7: Source: FactSet Fundamentals
C8: MAR '22 | D8: JUN '22 | E8: SEP '22 | F8: DEC '22 | G8: MAR '23 | H8: JUN '23 | I8: SEP '23 | J8: DEC '23 | K8: MAR '24 | L8: JUN '24 | M8: SEP '24 | N8: DEC '24
C9: LTM | D9: LTM | E9: LTM | F9: LTM | G9: LTM | H9: LTM | I9: LTM | J9: LTM | K9: LTM | L9: LTM | M9: LTM | N9: LTM
B10: Profitability
B11: Gross Margin | C11: 37.19618 | D11: 36.559757 | E11: 36.355069 | F11: 36.878953 | G11: 37.221014 | H11: 37.549968 | I11: 37.673115 | J11: 37.540271 | K11: 37.543303 | L11: 37.628321 | M11: 37.802217 | N11: 38.070008
B12: SG&A to Sales | C12: 26.910208 | D12: 26.779705 | E12: 26.672177 | F12: 26.668969 | G12: 27.238319 | H12: 27.878871 | I12: 28.319315 | J12: 29.218575 | K12: 29.963699 | L12: 30.588659 | M12: 31.232658 | N12: 31.342529
B13: Operating Margin | C13: 10.285972 | D13: 9.780052 | E13: 9.682892 | F13: 10.209984 | G13: 9.982695 | H13: 9.671096 | I13: 9.3538 | J13: 8.321696 | K13: 7.579604 | L13: 7.039662 | M13: 6.569559 | N13: 6.727479
B14: Net Margin | C14: 7.565365 | D14: 7.093062 | E14: 6.750148 | F14: 6.99254 | G14: 6.855951 | H14: 6.548552 | I14: 6.301463 | J14: 5.57287 | K14: 5.114646 | L14: 4.780774 | M14: 4.446039 | N14: 4.620346
B15: Free Cash Flow Margin | C15: -7.220258 | D15: -11.185281 | E15: -12.323049 | F15: -8.070165 | G15: -2.960927 | H15: 1.356769 | I15: 5.813724 | J15: 5.799337 | K15: 4.121919 | L15: 3.975323 | M15: 2.800562 | N15: 3.508462
B16: Free Cash Flow Conversion Ratio | C16: -95.438332 | D16: -157.69326 | E16: -182.55969 | F16: -115.41106 | G16: -43.187691 | H16: 20.718615 | I16: 92.259902 | J16: 104.06374 | K16: 80.590499 | L16: 83.152283 | M16: 62.990039 | N16: 75.935047
B17: Capex To Sales | C17: 12.574265 | D17: 12.53017 | E17: 10.961913 | F17: 10.707067 | G17: 11.361123 | H17: 11.841746 | I17: 12.404006 | J17: 12.406602 | K17: 11.845265 | L17: 11.263368 | M17: 10.991897 | N17: 10.028031
B18: Return on Assets | C18: 8.118417 | D18: 7.332444 | E18: 7.083421 | F18: 7.379295 | G18: 7.261715 | H18: 6.648832 | I18: 6.262385 | J18: 5.457858 | K18: 4.992032 | L18: 4.512859 | M18: 4.084904 | N18: 4.23909
B19: Return on Equity | C19: 22.422041 | D19: 20.741407 | E19: 19.584067 | F19: 20.010569 | G19: 19.085522 | H19: 17.456557 | I19: 16.039699 | J19: 13.710625 | K19: 12.10433 | L19: 10.875608 | M19: 9.781933 | N19: 10.039725
B20: Return on Invested Capital | C20: 11.132105 | D20: 10.266288 | E20: 9.784448 | F20: 10.056853 | G20: 9.906493 | H20: 9.204092 | I20: 8.508772 | J20: 7.323103 | K20: 6.607325 | L20: 6.060473 | M20: 5.521768 | N20: 5.763776
B21: Valuation
B22: Price/Sales | C22: 2.367201 | D22: 1.728012 | E22: 1.851119 | F22: 1.78862 | G22: 2.340841 | H22: 2.486163 | I22: 2.18973 | J22: 2.786224 | K22: 3.196998 | L22: 2.486197 | M22: 2.980171 | N22: 2.459535
B23: Price/Earnings | C23: 31.265681 | D23: 24.400264 | E23: 27.421282 | F23: 25.576452 | G23: 34.067199 | H23: 37.895522 | I23: 34.664549 | J23: 49.938613 | K23: 62.353281 | L23: 51.936266 | M23: 66.985937 | N23: 53.172348
B24: Price/Book Value | C24: 6.113171 | D24: 4.465872 | E24: 4.77073 | F24: 4.547274 | G24: 5.82259 | H24: 5.970377 | I24: 5.058107 | J24: 6.295392 | K24: 7.002622 | L24: 5.272379 | M24: 6.145283 | N24: 4.999899
B25: Enterprise Value/EBIT | C25: 26.421008 | D25: 21.543345 | E25: 22.768288 | F25: 20.951511 | G25: 27.819369 | H25: 29.782501 | I25: 27.202051 | J25: 36.749558 | K25: 46.523121 | L25: 39.521868 | M25: 51.356017 | N25: 40.707037
B26: Enterprise Value/EBITDA | C26: 19.806782 | D26: 15.870614 | E26: 16.667849 | F26: 15.450447 | G26: 20.110306 | H26: 20.98723 | I26: 18.651254 | J26: 23.736763 | K26: 28.444862 | L26: 23.07263 | M26: 28.749897 | N26: 22.94975
B27: Enterprise Value/Sales | C27: 2.717658 | D27: 2.10695 | E27: 2.204629 | F27: 2.139146 | G27: 2.777123 | H27: 2.880294 | I27: 2.544425 | J27: 3.058186 | K27: 3.526268 | L27: 2.782206 | M27: 3.373864 | N27: 2.738557
B28: Per Share
B29: Sales per Share | C29: 34.217633 | D29: 36.43493 | E29: 38.436205 | F29: 39.689823 | G29: 40.455551 | H29: 40.85009 | I29: 40.868058 | J29: 40.876109 | K29: 40.54428 | L29: 40.511674 | M29: 40.598336 | N29: 41.093138
B30: EBIT (Operating Income) per Share | C30: 3.519616 | D30: 3.563355 | E30: 3.721736 | F30: 4.052324 | G30: 4.038554 | H30: 3.950652 | I30: 3.822716 | J30: 3.401585 | K30: 3.073096 | L30: 2.851885 | M30: 2.667131 | N30: 2.764532
B31: EPS (diluted) | C31: 2.5907 | D31: 2.5803 | E31: 2.5947 | F31: 2.7756 | G31: 2.7798 | H31: 2.68 | I31: 2.5816 | J31: 2.2806 | K31: 2.0788 | L31: 1.9393 | M31: 1.8062 | N31: 1.9008
B32: Book Value per Share | C32: 13.25008 | D32: 14.09803 | E32: 14.91386 | F32: 15.61155 | G32: 16.26424 | H32: 17.01065 | I32: 17.69239 | J32: 18.09101 | K32: 18.51021 | L32: 19.10333 | M32: 19.68827 | N32: 20.21441
B33: Cash Flow per Share | C33: 1.832014 | D33: 0.490009 | E33: -0.523169 | F33: 1.046582 | G33: 3.398346 | H33: 5.391605 | I33: 7.445232 | J33: 7.441879 | K33: 6.47378 | L33: 6.173449 | M33: 5.599509 | N33: 5.56257
B34: Free Cash Flow per Share | C34: -2.470601 | D34: -4.075349 | E34: -4.736513 | F34: -3.203034 | G34: -1.197859 | H34: 0.554241 | I34: 2.375956 | J34: 2.370543 | K34: 1.671202 | L34: 1.61047 | M34: 1.136981 | N34: 1.441737
B35: Diluted Shares Outstanding (M) | C35: 107.539 | D35: 107.3 | E35: 107.47 | F35: 107.445 | G35: 107.718 | H35: 107.805 | I35: 108.002 | J35: 107.982 | K35: 108.255 | L35: 108.274 | M35: 108.292 | N35: 108.431
B36: Asset Turnover Analysis
B37: Cash & ST Investments | C37: 42.969429 | D37: 205.7344 | E37: 595.89426 | F37: 487.89806 | G37: 587.77866 | H37: 956.83737 | I37: 134.16107 | J37: 91.946339 | K37: 95.615219 | L37: 44.875783 | M37: 27.578458 | N37: 24.187222
B38: Receivables | C38: 46.650904 | D38: 42.380435 | E38: 42.600968 | F38: 45.602753 | G38: 46.922044 | H38: 41.162037 | I38: 39.002302 | J38: 38.475279 | K38: 42.868161 | L38: 40.665474 | M38: 39.686899 | N38: 35.560246
B39: Inventories | C39: 2.630363 | D39: 2.445997 | E39: 2.441524 | F39: 2.340183 | G39: 2.347623 | H39: 2.18563 | I39: 2.268022 | J39: 2.298867 | K39: 2.477141 | L39: 2.476137 | M39: 2.542008 | N39: 2.465179
B40: Current Assets | C40: 2.835113 | D40: 2.75922 | E40: 2.746173 | F40: 2.886689 | G40: 3.128397 | H40: 3.306182 | I40: 3.304218 | J40: 3.32779 | K40: 3.412043 | L40: 3.376347 | M40: 3.219599 | N40: 3.092942
B41: Fixed Assets | C41: 1.761779 | D41: 1.773837 | E41: 1.801876 | F41: 1.782375 | G41: 1.729218 | H41: 1.668855 | I41: 1.58478 | J41: 1.526864 | K41: 1.49249 | L41: 1.459154 | M41: 1.428873 | N41: 1.430778
B42: Total Assets | C42: 1.073103 | D42: 1.033749 | E42: 1.049373 | F42: 1.05531 | G42: 1.059184 | H42: 1.015313 | I42: 0.993799 | J42: 0.979362 | K42: 0.976027 | L42: 0.94396 | M42: 0.918774 | N42: 0.917483
...

Sheet Comps
B1: Floor & Decor Holdings, Inc. Class A (FND)
B2: *sourced from FactSet to ensure like for like comparison across metrics and comps
B5: Comps Tables - Named Competitors
B6: Selected Financials
E7: Market Data ($) | J7: Financial ($) | M7: Valuation (x)
B8: Company | D8: Fiscal | H8: Shares Out | I8: Shares Out | M8: EV/ | N8: EV/
B9: Name | C9: Ticker | D9: Period | E9: Price | F9: Mkt Cap (M) | G9: EV (M) | H9: (M) | I9: Diluted (M) | J9: Sales (M) | K9: EBIT (M) | L9: EBITDA (M) | M9: EBIT | N9: EBITDA
B10: Floor & Decor Holdings A | C10: FND-US | D10: 12/2024 | E10: 67.019997 | F10: 7311.2994 | G10: 7320.2604 | H10: 107.60556 | I10: 108.319 | J10: 4455.77 | K10: 299.761 | L10: 529.361 | M10: 24.420323 | N10: 13.828485
B11: Builders FirstSource | C11: BLDR-US | D11: 12/2024 | E11: 114.08 | F11: 13091.749 | G11: 16642.238 | H11: 113.74281 | I11: 118.98 | J11: 16400.492 | K11: 1595.249 | L11: 2157.178 | M11: 10.432376 | N11: 7.714819
B12: Lowe's Companies | C12: LOW-US | D12: 01/2025 | E12: 212.77 | F12: 119684.99 | G12: 153038.99 | H12: 559.70654 | I12: 568 | J12: 83674 | K12: 10112 | L12: 12084 | M12: 15.134394 | N12: 12.664597
B13: Tile Shop | C13: TTSH-US | D13: 12/2024 | E13: 5.44 | F13: 242.93896 | G13: 221.98197 | H13: 44.657898 | I13: 43.851653 | J13: 347.071 | K13: 4.466 | L13: 22.225 | M13: 49.704873 | N13: 9.98794
B14: Home Depot | C14: HD-US | D14: 01/2025 | E14: 346.89999 | F14: 346537.18 | G14: 398261.18 | H14: 993.92816 | I14: 993 | J14: 159514 | K14: 21526 | L14: 25234 | M14: 18.501402 | N14: 15.782721
B15: Live Ventures | C15: LIVE-US | D15: 12/31/2024 | E15: 10.9 | F15: 34.180244 | G15: 176.3816 | H15: 3.106431 | I15: 3.12482 | J15: 466.755 | K15: 1.633 | L15: 25.645 | M15: 108.01077 | N15: 6.877816
B16: BuildDirect.com | C16: BDCTF-US | D16: 12/2024 | E16: 0.8114 | F16: 44.359208 | G16: 52.656413 | H16: 42.032707 | I16: 41.998807 | J16: 65.46484 | K16: -0.95701 | L16: 1.90476 | M16: - | N16: 27.644644
B17: Average | M17: 37.700691 | N17: 13.500146
B18: Median | M18: 21.460862 | N18: 12.664597
B19: Valuation
G20: P/E (x) | J20: EV/ (x) | M20: Financial ($)
B21: Company | D21: Fiscal | E21: FY1
B22: Name | C22: Ticker | D22: Period | E22: Date | F22: EV (M) | G22: Actual | H22: FY1 | I22: FY2 | J22: Sales | K22: EBIT | L22: EBITDA | M22: Sales (M) | N22: EBIT (M) | O22: EBITDA (M)
B23: Floor & Decor Holdings A | C23: FND-US | D23: 12/2024 | E23: 12/2025 | F23: 7320.2604 | G23: 35.262549 | H23: 34.010929 | I23: 26.333189 | J23: 1.642872 | K23: 24.420323 | L23: 13.828485 | M23: 4455.77 | N23: 299.761 | O23: 529.361
B24: Builders FirstSource | C24: BLDR-US | D24: 12/2024 | E24: 12/2025 | F24: 16642.238 | G24: 12.592306 | H24: 12.217436 | I24: 10.481564 | J24: 1.01474 | K24: 10.432376 | L24: 7.714819 | M24: 16400.492 | N24: 1595.249 | O24: 2157.178
B25: Lowe's Companies | C25: LOW-US | D25: 01/2025 | E25: 01/2026 | F25: 153038.99 | G25: 17.414043 | H25: 17.333473 | I25: 15.813108 | J25: 1.828991 | K25: 15.134394 | L25: 12.664597 | M25: 83674 | N25: 10112 | O25: 12084
B26: Tile Shop | C26: TTSH-US | D26: 12/2024 | E26: 12/2025 | F26: 221.98197 | G26: 102.83554 | H26: - | I26: - | J26: 0.639587 | K26: 49.704873 | L26: 9.98794 | M26: 347.071 | N26: 4.466 | O26: 22.225
B27: Home Depot | C27: HD-US | D27: 01/2025 | E27: 01/2026 | F27: 398261.18 | G27: 23.26564 | H27: 22.971327 | I27: 21.051291 | J27: 2.496716 | K27: 18.501402 | L27: 15.782721 | M27: 159514 | N27: 21526 | O27: 25234
B28: Live Ventures | C28: LIVE-US | D28: 12/31/2024 | E28: 09/2025 | F28: 176.3816 | G28: - | H28: - | I28: - | J28: 0.377889 | K28: 108.01077 | L28: 6.877816 | M28: 466.755 | N28: 1.633 | O28: 25.645
B29: BuildDirect.com | C29: BDCTF-US | D29: 12/2024 | E29: 12/2025 | F29: 52.656413 | G29: - | H29: - | I29: - | J29: 0.804346 | K29: - | L29: 27.644644 | M29: 65.46484 | N29: -0.95701 | O29: 1.90476
B30: Average | G30: 38.274015 | H30: 21.633291 | I30: 18.419788 | J30: 1.257877 | K30: 37.700691 | L30: 13.500146
B31: Median | G31: 23.26564 | H31: 20.1524 | I31: 18.432199 | J31: 1.01474 | K31: 21.460862 | L31: 12.664597
B32: Capitalization
E33: Market Data ($) | I33: Financial ($)
B34: Company | D34: Fiscal | F34: Shares Out | I34: Cash & ST | K34: Preferred | L34: Accumulated
B35: Name | C35: Ticker | D35: Period | E35: Price | F35: (M) | G35: Mkt Cap (M) | H35: EV (M) | I35: Investment (M) | J35: Total Debt (M) | K35: Stock (M) | L35: Min Interest (M)
B36: Floor & Decor Holdings A | C36: FND-US | D36: 12/2024 | E36: 67.019997 | F36: 107.60556 | G36: 7311.2994 | H36: 7320.2604 | I36: 187.669 | J36: 1686.558 | K36: 0 | L36: 0
B37: Builders FirstSource | C37: BLDR-US | D37: 12/2024 | E37: 114.08 | F37: 113.74281 | G37: 13091.749 | H37: 16642.238 | I37: 153.624 | J37: 4332.825 | K37: 0 | L37: 0
B38: Lowe's Companies | C38: LOW-US | D38: 01/2025 | E38: 212.77 | F38: 559.70654 | G38: 119684.99 | H38: 153038.99 | I38: 2133 | J38: 39678 | K38: 0 | L38: 0
B39: Tile Shop | C39: TTSH-US | D39: 12/2024 | E39: 5.44 | F39: 44.657898 | G39: 242.93896 | H39: 221.98197 | I39: 20.957 | J39: 142.58 | K39: 0 | L39: 0
B40: Home Depot | C40: HD-US | D40: 01/2025 | E40: 346.89999 | F40: 993.92816 | G40: 346537.18 | H40: 398261.18 | I40: 1659 | J40: 62290 | K40: 0 | L40: 0
B41: Live Ventures | C41: LIVE-US | D41: 12/31/2024 | E41: 10.9 | F41: 3.106431 | G41: 34.180244 | H41: 176.3816 | I41: 7.407 | J41: 252.046 | K41: 0 | L41: 0
B42: BuildDirect.com | C42: BDCTF-US | D42: 12/2024 | E42: 0.8114 | F42: 42.032707 | G42: 44.359208 | H42: 52.656413 | I42: 2.792906 | J42: 13.939654 | K42: 0 | L42: 0
...

Sheet Sell Side Ests
B1: FND-US
B2: Targets & Ratings
B3: Broker | C3: Analyst | D3: Rating Date | E3: Rating* | F3: Price on Rating Date | G3: Tgt Price Date | H3: Tgt Price* | I3: Price on Tgt Price Date | J3: Tgt Price Implied Return (%)
B4: Mean | D4: 23 Apr '25 | E4: Hold (1.80) | F4: 71.34 | G4: 23 Apr '25 | H4: 103.417 | I4: 71.34 | J4: 44.9631
B5: Evercore ISI | C5: Greg Melich | D5: 22 Apr '25 | E5: Hold | F5: 68.3 | G5: 21 Apr '25 | H5: 75 | I5: 67.02 | J5: 5.13037
B6: Mizuho Securities USA | C6: David Bellinger | D6: 17 Apr '25 | E6: Hold | F6: 70.31 | G6: 17 Apr '25 | H6: 100 | I6: 70.31 | J6: 40.1738
B7: TD Cowen | C7: Max Rakhlenko | D7: 11 Apr '25 | E7: Hold | F7: 75.04 | G7: 11 Apr '25 | H7: 110 | I7: 75.04 | J7: 54.1912
B8: Restricted | C8: Restricted | D8: 04 Apr '25 | E8: Sell | F8: 71.5 | G8: 04 Apr '25 | H8: 66 | I8: 71.5 | J8: -7.48528
B9: Restricted | C9: Restricted | D9: 02 Apr '25 | E9: Overweight | F9: 82.07 | G9: 14 Apr '25 | H9: 125 | I9: 73.04 | J9: 75.2173
B10: Melius Research | C10: Karen Short | D10: 01 Apr '25 | E10: Sell | F10: 79.88 | G10: 01 Apr '25 | H10: 80 | I10: 79.88 | J10: 12.1391
B11: Piper Sandler Companies | C11: Peter J. Keith | D11: 21 Mar '25 | E11: Hold | F11: 84.18 | G11: 21 Mar '25 | H11: 90 | I11: 84.18 | J11: 26.1564
B12: Baptista Research | C12: Ishan Majumdar | D12: 05 Mar '25 | E12: Hold | F12: 88.01 | G12: 05 Mar '25 | H12: 111 | I12: 88.01 | J12: 55.5929
B13: Truist Securities | C13: Keith Hughes | D13: 28 Feb '25 | E13: Buy | F13: 96.63 | G13: 21 Feb '25 | H13: 115 | I13: 94.27 | J13: 61.1999
B14: Equisights | C14: Parth Talsania | D14: 28 Feb '25 | E14: Hold | F14: 96.63 | G14: 28 Feb '25 | H14: 100.34 | I14: 96.63 | J14: 40.6504
B15: Telsey Advisory Group | C15: Joseph Feldman | D15: 24 Feb '25 | E15: Buy | F15: 97.53 | G15: 24 Feb '25 | H15: 115 | I15: 97.53 | J15: 61.1999
B16: Restricted | C16: Restricted | D16: 21 Feb '25 | E16: Hold | F16: 94.27 | G16: 21 Feb '25 | H16: 110 | I16: 94.27 | J16: 54.1912
B17: Restricted | C17: Restricted | D17: 21 Feb '25 | E17: Hold | F17: 94.27 | G17: 21 Feb '25 | H17: 115 | I17: 94.27 | J17: 61.1999
B18: William Blair | C18: Phillip Blee | D18: 21 Feb '25 | E18: Buy | F18: 94.27 | G18: - | H18: - | I18: - | J18: -
B19: Jefferies | C19: Jonathan Matuszewski | D19: 21 Feb '25 | E19: Hold | F19: 94.27 | G19: 21 Feb '25 | H19: 102 | I19: 94.27 | J19: 42.9773
B20: Stifel Nicolaus | C20: W. Andrew Carter | D20: 21 Feb '25 | E20: Buy | F20: 94.27 | G20: 21 Feb '25 | H20: 110 | I20: 94.27 | J20: 54.1912
B21: Wedbush Securities | C21: Seth Basham | D21: 21 Feb '25 | E21: Hold | F21: 94.27 | G21: 21 Feb '25 | H21: 105 | I21: 94.27 | J21: 47.1825
B22: Wells Fargo Securities | C22: Zachary Fadem | D22: 21 Feb '25 | E22: Hold | F22: 94.27 | G22: 21 Feb '25 | H22: 105 | I22: 94.27 | J22: 47.1825
B23: Restricted | C23: Restricted | D23: 21 Feb '25 | E23: Hold | F23: 94.27 | G23: 21 Feb '25 | H23: 91 | I23: 94.27 | J23: 27.5582
B24: Loop Capital Markets | C24: Anthony C. Chukumba | D24: 21 Feb '25 | E24: Hold | F24: 94.27 | G24: 21 Feb '25 | H24: 95 | I24: 94.27 | J24: 33.1651
B25: Guggenheim Securities | C25: Steven Forbes | D25: 21 Feb '25 | E25: Buy | F25: 94.27 | G25: 21 Feb '25 | H25: 115 | I25: 94.27 | J25: 61.1999
B26: Gordon Haskett | C26: Chuck Grom | D26: 21 Feb '25 | E26: Buy | F26: 94.27 | G26: 21 Feb '25 | H26: 120 | I26: 94.27 | J26: 68.2086

Sheet Raw Calcs >>>

Sheet Q4 IS Calcs
B1: Income Statement | C1: 2022 | D1: 20223Q | E1: 2022Q4 | F1: 2023 | G1: 20233Q | H1: 2023Q4 | I1: 2024 | J1: 20243Q | K1: 2024Q4
B2: Net Sales | C2: 4264473 | D2: 3216404 | E2: =C2-D2 -> 1048069 | F2: 4413884 | G2: 3365763 | H2: =F2-G2 -> 1048121 | I2: 4455770 | J2: 3348354 | K2: =I2-J2 -> 1107416
B3: Cost of Sales | C3: 2536757 | D3: 1924589 | E3: =C3-D3 -> 612168 | F3: 2555536 | G3: 1949557 | H3: =F3-G3 -> 605979 | I3: 2527519 | J3: 1901424 | K3: =I3-J3 -> 626095
B4: Gross Profit | C4: 1727716 | D4: 1291815 | E4: =C4-D4 -> 435901 | F4: 1858348 | G4: 1416206 | H4: =F4-G4 -> 442142 | I4: 1928251 | J4: 1446930 | K4: =I4-J4 -> 481321
B5: Selling and store operating | C5: 1078466 | D5: 798437 | E5: =C5-D5 -> 280029 | F5: 1239225 | G5: 923658 | H5: =F5-G5 -> 315567 | I5: 1362325 | J5: 1014888 | K5: =I5-J5 -> 347437
B6: General and administrative | C6: 213848 | D6: 162449 | E6: =C6-D6 -> 51399 | F6: 252713 | G6: 185060 | H6: =F6-G6 -> 67653 | I6: 266165 | J6: 202135 | K6: =I6-J6 -> 64030
B7: Pre-opening | C7: 38642 | D7: 28890 | E7: =C7-D7 -> 9752 | F7: 44982 | G7: 32226 | H7: =F7-G7 -> 12756 | I7: 43585 | J7: 32951 | K7: =I7-J7 -> 10634
B8: Total operating expenses | C8: 1330956 | D8: 989776 | E8: =C8-D8 -> 341180 | F8: 1536920 | G8: 1140944 | H8: =F8-G8 -> 395976 | I8: 1672075 | J8: 1249974 | K8: =I8-J8 -> 422101
B9: Operating income | C9: 396760 | D9: 302039 | E9: =C9-D9 -> 94721 | F9: 321428 | G9: 275262 | H9: =F9-G9 -> 46166 | I9: 256176 | J9: 196956 | K9: =I9-J9 -> 59220
B10: Interest expense, net | C10: 11138 | D10: 5866 | E10: =C10-D10 -> 5272 | F10: 9897 | G10: 9006 | H10: =F10-G10 -> 891 | I10: 2773 | J10: 2807 | K10: =I10-J10 -> -34
B11: Income before taxes | C11: 385622 | D11: 296173 | E11: =C11-D11 -> 89449 | F11: 311531 | G11: 266256 | H11: =F11-G11 -> 45275 | I11: 253403 | J11: 194149 | K11: =I11-J11 -> 59254
B12: Provision for income taxes | C12: 87427 | D12: 67215 | E12: =C12-D12 -> 20212 | F12: 65551 | G12: 57357 | H12: =F12-G12 -> 8194 | I12: 47531 | J12: 35761 | K12: =I12-J12 -> 11770
B13: Net Income | C13: 298195 | D13: 228958 | E13: =C13-D13 -> 69237 | F13: 245980 | G13: 208899 | H13: =F13-G13 -> 37081 | I13: 205872 | J13: 158388 | K13: =I13-J13 -> 47484

Sheet CFS Quarterly and Consolidation
C1: 2022 | J1: 2023 | Q1: 2024
B2: Operating activities | C2: Q1 | D2: Through Q2 | E2: Q2 | F2: Through Q3 | G2: Q3 | H2: Full Year | I2: Q4 | J2: Q1 | K2: Through Q2 | L2: Q2 | M2: Through Q3 | N2: Q3 | O2: Full Year | P2: Q4 | Q2: Q1 | R2: Through Q2 | S2: Q2 | T2: Through Q3 | U2: Q3 | V2: Full Year | W2: Q4
B3: Net income | C3: 70951 | D3: 152783 | E3: =D3-C3 -> 81832 | F3: 228958 | G3: =F3-D3 -> 76175 | H3: 298195 | I3: =H3-F3 -> 69237 | J3: 71524 | K3: 142976 | L3: =K3-J3 -> 71452 | M3: 208899 | N3: =M3-K3 -> 65923 | O3: 245980 | P3: =O3-M3 -> 37081 | Q3: 50032 | R3: 106698 | S3: =R3-Q3 -> 56666 | T3: 158388 | U3: =T3-R3 -> 51690 | V3: 205872 | W3: =V3-T3 -> 47484
B4: Adjustments to reconcile net income to net cash (used in) provided by operating activities:
B5: Depreciation and amortization | C5: 34613 | D5: 72566 | E5: =D5-C5 -> 37953 | F5: 112691 | G5: =F5-D5 -> 40125 | H5: 155023 | I5: =H5-F5 -> 42332 | J5: 46352 | K5: 96028 | L5: =K5-J5 -> 49676 | M5: 146947 | N5: =M5-K5 -> 50919 | O5: 201869 | P5: =O5-M5 -> 54922 | Q5: 56423 | R5: 114807 | S5: =R5-Q5 -> 58384 | T5: 172690 | U5: =T5-R5 -> 57883 | V5: 232473 | W5: =V5-T5 -> 59783
B6: Stock-based compensation expense | C6: 5980 | D6: 10869 | E6: =D6-C6 -> 4889 | F6: 17229 | G6: =F6-D6 -> 6360 | H6: 22233 | I6: =H6-F6 -> 5004 | J6: 6741 | K6: 15047 | L6: =K6-J6 -> 8306 | M6: 20336 | N6: =M6-K6 -> 5289 | O6: 27240 | P6: =O6-M6 -> 6904 | Q6: -7530 | R6: 15587 | S6: =R6-Q6 -> 23117 | T6: 25618 | U6: =T6-R6 -> 10031 | V6: 33695 | W6: =V6-T6 -> 8077
B7: Change in fair value of contingent earn-out liabilities | C7: 364 | D7: 1389 | E7: =D7-C7 -> 1025 | F7: 1530 | G7: =F7-D7 -> 141 | H7: 2529 | I7: =H7-F7 -> 999 | J7: 1434 | K7: 1787 | L7: =K7-J7 -> 353 | M7: 4953 | N7: =M7-K7 -> 3166 | O7: 2609 | P7: =O7-M7 -> -2344 | Q7: 7232 | R7: -13770 | S7: =R7-Q7 -> -21002 | T7: -15813 | U7: =T7-R7 -> -2043 | V7: 2103 | W7: =V7-T7 -> 17916
B8: Deferred income taxes | C8: 237 | D8: 2475 | E8: =D8-C8 -> 2238 | F8: 1747 | G8: =F8-D8 -> -728 | H8: 2525 | I8: =H8-F8 -> 778 | J8: -7211 | K8: -13480 | L8: =K8-J8 -> -6269 | M8: 2329 | N8: =M8-K8 -> 15809 | O8: 23722 | P8: =O8-M8 -> 21393 | Q8: 576 | R8: 1511 | S8: =R8-Q8 -> 935 | T8: 1511 | U8: =T8-R8 -> 0 | V8: -1807 | W8: =V8-T8 -> -3318
B9: Interest cap derivative contracts | C9: 29 | D9: 57 | E9: =D9-C9 -> 28 | F9: 85 | G9: =F9-D9 -> 28 | H9: 114 | I9: =H9-F9 -> 29 | J9: 28 | K9: 57 | L9: =K9-J9 -> 29 | M9: 858 | N9: =M9-K9 -> 801 | O9: 113 | P9: =O9-M9 -> -745 | Q9: 37 | R9: -87 | S9: =R9-Q9 -> -124 | T9: -866 | U9: =T9-R9 -> -779 | V9: -866 | W9: =V9-T9 -> 0
B10: Loss on asset impairments and disposals, net | E10: =D10-C10 -> 0 | G10: =F10-D10 -> 0 | H10: 20 | I10: =H10-F10 -> 20 | J10: -177 | K10: 765 | L10: =K10-J10 -> 942 | M10: 85 | N10: =M10-K10 -> -680 | O10: 925 | P10: =O10-M10 -> 840 | Q10: 28 | R10: 85 | S10: =R10-Q10 -> 57 | T10: 110 | U10: =T10-R10 -> 25 | V10: 136 | W10: =V10-T10 -> 26
B11: Changes in operating assets and liabilities, net of effects of acquisition:
B12: Receivables, net | C12: -16291 | D12: -15936 | E12: =D12-C12 -> 355 | F12: -21014 | G12: =F12-D12 -> -5078 | H12: -12150 | I12: =H12-F12 -> 8864 | J12: 6740 | K12: 12595 | L12: =K12-J12 -> 5855 | M12: 2931 | N12: =M12-K12 -> -9664 | O12: 1151 | P12: =O12-M12 -> -1780 | Q12: -1438 | R12: -9821 | S12: =R12-Q12 -> -8383 | T12: -4838 | U12: =T12-R12 -> 4983 | V12: -1973 | W12: =V12-T12 -> 2865
B13: Inventories, net | C13: -141363 | D13: -335968 | E13: =D13-C13 -> -194605 | F13: -312288 | G13: =F13-D13 -> 23680 | H13: -283438 | I13: =H13-F13 -> 28850 | J13: 111189 | K13: 128554 | L13: =K13-J13 -> 17365 | M13: 195590 | N13: =M13-K13 -> 67036 | O13: 194890 | P13: =O13-M13 -> -700 | Q13: 74020 | R13: 68866 | S13: =R13-Q13 -> -5154 | T13: 60143 | U13: =T13-R13 -> -8723 | V13: -26449 | W13: =V13-T13 -> -86592
B14: Trade accounts payable | C14: 27661 | D14: 110923 | E14: =D14-C14 -> 83262 | F14: -25761 | G14: =F14-D14 -> -136684 | H14: -84732 | I14: =H14-F14 -> -58971 | J14: 47176 | K14: 84885 | L14: =K14-J14 -> 37709 | M14: 109338 | N14: =M14-K14 -> 24453 | O14: 96985 | P14: =O14-M14 -> -12353 | Q14: -35079 | R14: 19136 | S14: =R14-Q14 -> 54215 | T14: 60747 | U14: =T14-R14 -> 41611 | V14: 122338 | W14: =V14-T14 -> 61591
B15: Accrued expenses and other current liabilities | C15: -3969 | D15: 26174 | E15: =D15-C15 -> 30143 | F15: 27796 | G15: =F15-D15 -> 1622 | H15: 38716 | I15: =H15-F15 -> 10920 | J15: -68733 | K15: 6579 | L15: =K15-J15 -> 75312 | M15: 2950 | N15: =M15-K15 -> -3629 | O15: 7507 | P15: =O15-M15 -> 4557 | Q15: -7905 | R15: 18969 | S15: =R15-Q15 -> 26874 | T15: 21939 | U15: =T15-R15 -> 2970 | V15: 31477 | W15: =V15-T15 -> 9538
B16: Income taxes | C16: 19842 | D16: -10681 | E16: =D16-C16 -> -30523 | F16: -6360 | G16: =F16-D16 -> 4321 | H16: -8865 | I16: =H16-F16 -> -2505 | J16: 25495 | K16: -6755 | L16: =K16-J16 -> -32250 | M16: -8912 | N16: =M16-K16 -> -2157 | O16: -18413 | P16: =O16-M16 -> -9501 | Q16: 13186 | R16: 24390 | S16: =R16-Q16 -> 11204 | T16: 24840 | U16: =T16-R16 -> 450 | V16: 5657 | W16: =V16-T16 -> -19183
B17: Deferred revenue | C17: 7529 | D17: 5728 | E17: =D17-C17 -> -1801 | F17: 1415 | G17: =F17-D17 -> -4313 | H17: -4432 | I17: =H17-F17 -> -5847 | J17: 4358 | K17: 4324 | L17: =K17-J17 -> -34 | M17: 3323 | N17: =M17-K17 -> -1001 | O17: 1217 | P17: =O17-M17 -> -2106 | Q17: 2918 | R17: 2045 | S17: =R17-Q17 -> -873 | T17: 1195 | U17: =T17-R17 -> -850 | V17: 1886 | W17: =V17-T17 -> 691
B18: Other, net | C18: -8916 | D18: -12526 | E18: =D18-C18 -> -3610 | F18: -18703 | G18: =F18-D18 -> -6177 | H18: -13288 | I18: =H18-F18 -> 5415 | J18: 5364 | K18: 3283 | L18: =K18-J18 -> -2081 | M18: 9348 | N18: =M18-K18 -> 6065 | O18: 17794 | P18: =O18-M18 -> 8446 | Q18: -4990 | R18: -6936 | S18: =R18-Q18 -> -1946 | T18: -3896 | U18: =T18-R18 -> 3040 | V18: -1387 | W18: =V18-T18 -> 2509
B19: Net cash (used in) provided by operating activities | C19: -3333 | D19: 7853 | E19: =D19-C19 -> 11186 | F19: 7325 | G19: =F19-D19 -> -528 | H19: 112450 | I19: =H19-F19 -> 105125 | J19: 250280 | K19: 476645 | L19: =K19-J19 -> 226365 | M19: 698975 | N19: =M19-K19 -> 222330 | O19: 803589 | P19: =O19-M19 -> 104614 | Q19: 147510 | R19: 341480 | S19: =R19-Q19 -> 193970 | T19: 501768 | U19: =T19-R19 -> 160288 | V19: 603155 | W19: =V19-T19 -> 101387
B20: Investing activities
B21: Purchases of fixed assets | C21: -100904 | D21: -214283 | E21: =D21-C21 -> -113379 | F21: -322825 | G21: =F21-D21 -> -108542 | H21: -456600 | I21: =H21-F21 -> -133775 | J21: -139398 | K21: -279175 | L21: =K21-J21 -> -139777 | M21: -413717 | N21: =M21-K21 -> -134542 | O21: -547613 | P21: =O21-M21 -> -133896 | Q21: -111688 | R21: -225614 | S21: =R21-Q21 -> -113926 | T21: -349360 | U21: =T21-R21 -> -123746 | V21: -446826 | W21: =V21-T21 -> -97466
B22: Acquisition, net of cash acquired | C22: -490 | D22: -1121 | E22: =D22-C22 -> -631 | F22: -1121 | G22: =F22-D22 -> 0 | H22: -3810 | I22: =H22-F22 -> -2689 | J22: 0 | K22: -17156 | L22: =K22-J22 -> -17156 | M22: -17353 | N22: =M22-K22 -> -197 | O22: -17353 | P22: =O22-M22 -> 0 | R22: 0 | S22: =R22-Q22 -> 0 | T22: 0 | U22: =T22-R22 -> 0 | V22: 0 | W22: =V22-T22 -> 0
B23: Proceeds from sales of property | D23: 4773 | E23: =D23-C23 -> 4773 | F23: 4773 | G23: =F23-D23 -> 0 | H23: 4773 | I23: =H23-F23 -> 0 | K23: 0 | L23: =K23-J23 -> 0 | M23: 0 | N23: =M23-K23 -> 0 | O23: 0 | P23: =O23-M23 -> 0 | S23: =R23-Q23 -> 0 | U23: =T23-R23 -> 0 | V23: 0 | W23: =V23-T23 -> 0
B24: Net cash used in investing activities | C24: -101394 | D24: -210631 | E24: =D24-C24 -> -109237 | F24: -319173 | G24: =F24-D24 -> -108542 | H24: -455637 | I24: =H24-F24 -> -136464 | J24: -139398 | K24: -296331 | L24: =K24-J24 -> -156933 | M24: -431070 | N24: =M24-K24 -> -134739 | O24: -564966 | P24: =O24-M24 -> -133896 | Q24: -111688 | R24: -225614 | S24: =R24-Q24 -> -113926 | T24: -349360 | U24: =T24-R24 -> -123746 | V24: -446826 | W24: =V24-T24 -> -97466
B25: Financing activities
